BEGIN:VCALENDAR
TZID:Europe/Vienna
VERSION:2.0
PRODID:BIG Detail, Kaspar & Sigl OG
BEGIN:VEVENT
UID:877
DTSTAMP:20260419T092022
DTSTART;TZID=Europe/Vienna:20261024T000000
DTEND;TZID=Europe/Vienna:20261024T000000
SUMMARY:115. Stiftungsfest AVISO
URL:http://amelungia.bigdetail.com/at/framework/termin-ics.php?we_objectID=877
LOCATION:folgt
DESCRIPTION:
PRIORITY:3
END:VEVENT
END:VCALENDAR
