BEGIN:VCALENDAR
TZID:Europe/Vienna
VERSION:2.0
PRODID:BIG Detail, Kaspar & Sigl OG
BEGIN:VEVENT
UID:744
DTSTAMP:20260425T162353
DTSTART;TZID=Europe/Vienna:20240608T105000
DTEND;TZID=Europe/Vienna:20240129T125300
SUMMARY:Herz Jesu Bergfeuer 2024
URL:http://amelungia.bigdetail.com/at/framework/termin-ics.php?we_objectID=744
LOCATION:kleine Herzwiese
DESCRIPTION:
PRIORITY:3
END:VEVENT
END:VCALENDAR
